BEGIN:VCALENDAR
PRODID:-//Microsoft Corporation//Outlook 14.0 MIMEDIR//EN
VERSION:2.0
METHOD:PUBLISH
BEGIN:VEVENT
UID:bdc284122385f62d8a4ba44f9e20b994www.sqep.ca
DTSTAMP:20260422T113454Z
DTSTART:2026-04-30T12:00:0000Z
DTEND:2026-04-30T13:00:0000Z
SUMMARY:Éthique et évaluation - Mise en débat
LOCATION:
DESCRIPTION:Dans un champ traversé d’intérêts contradictoires, l’évaluateur peut-il rester indépendant vis-à-vis des parties prenantes ou leur appartient-il toujours un peu ?

Venez donner votre avis et partager votre expérience au Cercle des pairs de la SQEP .

END:VEVENT
END:VCALENDAR